BEGIN:VCALENDAR
PRODID:-//MatrixMaxx//RemoteApi//EN
VERSION:2.0
METHOD:PUBLISH
CALSCALE:GREGORIAN
X-ORIGINAL-URL:http://www.ebri.org/forms/meeting/MeetingFormPublic/view?id=1068B0000003B
BEGIN:VEVENT
SUMMARY:The Impact of Medicare Buy-In Policy on Employers
LAST-MODIFIED:20200929T180000Z
UID:ci_1068B0000003B@matrixgroup.net
CLASS:PUBLIC
CREATED:20200929T180000Z
DTSTAMP:20200929T180000Z
DTSTART:20200929T180000Z
X-FUNAMBOL-ALLDAY:1
LOCATION:
DESCRIPTION:For+full+info+see+http%3A%2F%2Fwww.ebri.org%2Fforms%2Fmeeting%2FMeetingFormPublic%2Fview%3Fid%3D1068B0000003B%0AThanks+for+registering+for+the+Medicare+Buy-In+webinar.++Please+refer+to+your+confirmation+email%2C+or+the+webpage+for+this+webinar%2C+for+the+webinar+login+instructions.+
X-WR-CALDESC:For+full+info+see+http%3A%2F%2Fwww.ebri.org%2Fforms%2Fmeeting%2FMeetingFormPublic%2Fview%3Fid%3D1068B0000003B%0AThanks+for+registering+for+the+Medicare+Buy-In+webinar.++Please+refer+to+your+confirmation+email%2C+or+the+webpage+for+this+webinar%2C+for+the+webinar+login+instructions.+
X-WR-CALNAME:Maxx Calendar
DTEND:20200929T190000Z
URL:http://www.ebri.org/forms/meeting/MeetingFormPublic/view?id=1068B0000003B
END:VEVENT
END:VCALENDAR