BEGIN:VCALENDAR
PRODID:-//MatrixMaxx//RemoteApi//EN
VERSION:2.0
METHOD:PUBLISH
CALSCALE:GREGORIAN
X-ORIGINAL-URL:http://www.ebri.org/forms/meeting/MeetingFormPublic/view?id=1239E00000251
BEGIN:VEVENT
SUMMARY:The Stand: Employer Approaches to Health Benefits Post-COVID-19
LAST-MODIFIED:20201210T190000Z
UID:ci_1239E00000251@matrixgroup.net
CLASS:PUBLIC
CREATED:20201210T190000Z
DTSTAMP:20201210T190000Z
DTSTART:20201210T190000Z
X-FUNAMBOL-ALLDAY:1
LOCATION:
DESCRIPTION:For full info see http://www.ebri.org/forms/meeting/MeetingFormPublic/view?id=1239E00000251\nThanks for registering for The Stand: Employer Approaches to Health Benefits Post-COVID-19.  Please refer to your confirmation email, or the meeting webpage, for the login instructions. 
DTEND:20201210T201500Z
URL:http://www.ebri.org/forms/meeting/MeetingFormPublic/view?id=1239E00000251
END:VEVENT
END:VCALENDAR