BEGIN:VCALENDAR
PRODID:-//MatrixMaxx//RemoteApi//EN
VERSION:2.0
METHOD:PUBLISH
CALSCALE:GREGORIAN
X-ORIGINAL-URL:http://www.ebri.org/forms/meeting/MeetingFormPublic/view?id=123A3000000B7
BEGIN:VEVENT
SUMMARY:Election Results: What They Mean for Employers and the Benefits Landscape
LAST-MODIFIED:20201207T180000Z
UID:ci_123A3000000B7@matrixgroup.net
CLASS:PUBLIC
CREATED:20201207T180000Z
DTSTAMP:20201207T180000Z
DTSTART:20201207T180000Z
X-FUNAMBOL-ALLDAY:1
LOCATION:
DESCRIPTION:For+full+info+see+http%3A%2F%2Fwww.ebri.org%2Fforms%2Fmeeting%2FMeetingFormPublic%2Fview%3Fid%3D123A3000000B7%0AThanks+for+registering+for+the+Lillywhite+Award+Winner+Howard+Fluhr+of+The+Segal+Group%2FElection+Results%3A+What+They+Mean+for+Employers+and+the+Benefits+Landscape+%0D%0Awebinar.++Please+refer+to+your+confirmation+email+for+the+login+instructions.+
X-WR-CALDESC:For+full+info+see+http%3A%2F%2Fwww.ebri.org%2Fforms%2Fmeeting%2FMeetingFormPublic%2Fview%3Fid%3D123A3000000B7%0AThanks+for+registering+for+the+Lillywhite+Award+Winner+Howard+Fluhr+of+The+Segal+Group%2FElection+Results%3A+What+They+Mean+for+Employers+and+the+Benefits+Landscape+%0D%0Awebinar.++Please+refer+to+your+confirmation+email+for+the+login+instructions.+
X-WR-CALNAME:Maxx Calendar
DTEND:20201207T191500Z
URL:http://www.ebri.org/forms/meeting/MeetingFormPublic/view?id=123A3000000B7
END:VEVENT
END:VCALENDAR