BEGIN:VCALENDAR
PRODID:-//MatrixMaxx//RemoteApi//EN
VERSION:2.0
METHOD:PUBLISH
CALSCALE:GREGORIAN
X-ORIGINAL-URL:http://www.ebri.org/forms/meeting/MeetingFormPublic/view?id=123A600000001
BEGIN:VEVENT
SUMMARY:EBRI Winter Policy Forum
LAST-MODIFIED:20201207T180000Z
UID:ci_123A600000001@matrixgroup.net
CLASS:PUBLIC
CREATED:20201207T180000Z
DTSTAMP:20201207T180000Z
DTSTART:20201207T180000Z
X-FUNAMBOL-ALLDAY:1
LOCATION:
DESCRIPTION:For+full+info+see+http%3A%2F%2Fwww.ebri.org%2Fforms%2Fmeeting%2FMeetingFormPublic%2Fview%3Fid%3D123A600000001%0AThanks+for+registering+for+the+EBRI+Policy+Forum+Week+webinars.++Please+refer+to+your+confirmation+email%2C+or+the+webpage+for+this+webinar%2C+for+the+webinar+login+instructions.+
X-WR-CALDESC:For+full+info+see+http%3A%2F%2Fwww.ebri.org%2Fforms%2Fmeeting%2FMeetingFormPublic%2Fview%3Fid%3D123A600000001%0AThanks+for+registering+for+the+EBRI+Policy+Forum+Week+webinars.++Please+refer+to+your+confirmation+email%2C+or+the+webpage+for+this+webinar%2C+for+the+webinar+login+instructions.+
X-WR-CALNAME:Maxx Calendar
DTEND:20201210T201500Z
URL:http://www.ebri.org/forms/meeting/MeetingFormPublic/view?id=123A600000001
END:VEVENT
END:VCALENDAR