BEGIN:VCALENDAR
PRODID:-//MatrixMaxx//RemoteApi//EN
VERSION:2.0
METHOD:PUBLISH
CALSCALE:GREGORIAN
X-ORIGINAL-URL:http://www.ebri.org/forms/meeting/MeetingFormPublic/view?id=123A70000026B
BEGIN:VEVENT
SUMMARY:The Full Picture: Retirement, Financial Wellness, and Health Benefit Considerations of Minorities in the U.S.
LAST-MODIFIED:20201208T190000Z
UID:ci_123A70000026B@matrixgroup.net
CLASS:PUBLIC
CREATED:20201208T190000Z
DTSTAMP:20201208T190000Z
DTSTART:20201208T190000Z
X-FUNAMBOL-ALLDAY:1
LOCATION:
DESCRIPTION:For+full+info+see+http%3A%2F%2Fwww.ebri.org%2Fforms%2Fmeeting%2FMeetingFormPublic%2Fview%3Fid%3D123A70000026B%0AThanks+for+registering+for+The+Full+Picture%3A+Retirement%2C+Financial+Wellness%2C+and+Health+Benefit+Considerations+of+Minorities+in+the+U.S..++Please+refer+to+your+confirmation+email%2C+or+the+meeting+webpage%2C+for+the+login+instructions.+
X-WR-CALDESC:For+full+info+see+http%3A%2F%2Fwww.ebri.org%2Fforms%2Fmeeting%2FMeetingFormPublic%2Fview%3Fid%3D123A70000026B%0AThanks+for+registering+for+The+Full+Picture%3A+Retirement%2C+Financial+Wellness%2C+and+Health+Benefit+Considerations+of+Minorities+in+the+U.S..++Please+refer+to+your+confirmation+email%2C+or+the+meeting+webpage%2C+for+the+login+instructions.+
X-WR-CALNAME:Maxx Calendar
DTEND:20201208T201500Z
URL:http://www.ebri.org/forms/meeting/MeetingFormPublic/view?id=123A70000026B
END:VEVENT
END:VCALENDAR